BEGIN:VCALENDAR
VERSION:2.0
PRODID:-//Australian Taekwondo Queensland - ECPv5.3.2.1//NONSGML v1.0//EN
CALSCALE:GREGORIAN
METHOD:PUBLISH
X-WR-CALNAME:Australian Taekwondo Queensland
X-ORIGINAL-URL:http://www.austkdqld.com.au
X-WR-CALDESC:Events for Australian Taekwondo Queensland
BEGIN:VTIMEZONE
TZID:UTC
BEGIN:STANDARD
TZOFFSETFROM:+0000
TZOFFSETTO:+0000
TZNAME:UTC
DTSTART:20210101T000000
END:STANDARD
END:VTIMEZONE
BEGIN:VEVENT
DTSTART;TZID=UTC:20210206T080000
DTEND;TZID=UTC:20210207T170000
DTSTAMP:20210226T210245
CREATED:20201110T012346Z
LAST-MODIFIED:20201110T012346Z
UID:902-1612598400-1612717200@www.austkdqld.com.au
SUMMARY:Elite Athlete Coaching
DESCRIPTION:
URL:http://www.austkdqld.com.au/?tribe_events=elite-athlete-coaching
LOCATION:Tans Taekwondo Currumbin
END:VEVENT
BEGIN:VEVENT
DTSTART;TZID=UTC:20210207T080000
DTEND;TZID=UTC:20210207T170000
DTSTAMP:20210226T210245
CREATED:20201110T003758Z
LAST-MODIFIED:20201110T003758Z
UID:844-1612684800-1612717200@www.austkdqld.com.au
SUMMARY:Kyorugi Referee Course
DESCRIPTION:
URL:http://www.austkdqld.com.au/?tribe_events=kyorugi-referee-course
END:VEVENT
END:VCALENDAR